BEGIN:VCALENDAR
VERSION:2.0
PRODID:-//Tukios.com/
BEGIN:VEVENT
UID:a16130ce-ff1a-4624-927c-6b87834b7f1d@www.country-haven.ca
DTSTAMP:20260424T165329Z
DTSTART:20260428T123000Z
DTEND:20260428T133000Z
SUMMARY:Funeral Service
DESCRIPTION:
URL:https://www.country-haven.ca/obituaries/brenda-blanchard
LOCATION: 167 Country Road  Corner Brook NL A2H 4M5
GEO:48.9419166;-57.9760724
END:VEVENT
END:VCALENDAR