BEGIN:VCALENDAR
VERSION:2.0
PRODID:-//Tukios.com/
BEGIN:VEVENT
UID:c95b5b24-3b8b-4d1e-b017-71d6ae12defe@www.country-haven.ca
DTSTAMP:20260424T165446Z
DTSTART:20260426T213000Z
DTEND:20260426T233000Z
SUMMARY:Visitation
DESCRIPTION:
URL:https://www.country-haven.ca/obituaries/brenda-blanchard
LOCATION: 167 Country Road  Corner Brook NL A2H 4M5
GEO:48.9419166;-57.9760724
END:VEVENT
END:VCALENDAR