BEGIN:VCALENDAR
VERSION:2.0
PRODID:-//Tukios.com/
BEGIN:VEVENT
UID:650d0e89-3839-4f5a-89f7-f81a99aada8a@www.country-haven.ca
DTSTAMP:20260424T165725Z
DTSTART:20260426T163000Z
DTEND:20260426T183000Z
SUMMARY:Visitation
DESCRIPTION:
URL:https://www.country-haven.ca/obituaries/brenda-blanchard
LOCATION: 167 Country Road  Corner Brook NL A2H 4M5
GEO:48.9419166;-57.9760724
END:VEVENT
END:VCALENDAR